BEGIN:VCALENDAR
VERSION:2.0
PRODID:-//ChamberMaster//Event Calendar 2.0//EN
METHOD:PUBLISH
X-PUBLISHED-TTL:P3D
REFRESH-INTERVAL:P3D
CALSCALE:GREGORIAN
BEGIN:VEVENT
DTSTART:20200723T163000Z
DTEND:20200723T223000Z
X-MICROSOFT-CDO-ALLDAYEVENT:FALSE
SUMMARY:2020 Chamber Golf Event
DESCRIPTION:JOIN US FOR OUR ANNUAL GOLF EVENT!\n\nA fun mixer that showcases local products and services.\n\n\n\nThis year\, all players enjoy their own golf car! \n\n\n\nHurry. Space is limited to 72 participants. \n\n\n\nSponsorships available to promote your business. Contact John Connelly
X-ALT-DESC;FMTTYPE=text/html:<span style="font-size:18px\;"><u><em><strong>JOIN US FOR OUR ANNUAL GOLF EVENT!</strong></em></u><br />\nA fun mixer that showcases local products and services.<br />\n<br />\nThis year\, all players enjoy their own golf car!&nbsp\;<br />\n<br />\nHurry. Space is limited to 72 participants.&nbsp\;</span><br />\n<br />\n<em><strong><span style="font-size:14px\;">Sponsorships available to promote your business. Contact John Connelly&nbsp\;</span></strong></em>
LOCATION:ONEKA RIDGE GOLF COURSE 5610 n. 120TH ST WHITE BEAR LAKE\, MN 55110
UID:e.263.14527
SEQUENCE:3
DTSTAMP:20260421T024943Z
URL:https://business.twincitiesnorth.org/events/details/2020-chamber-golf-event-14527
END:VEVENT

END:VCALENDAR
