BEGIN:VCALENDAR
VERSION:2.0
PRODID:-//ChamberMaster//Event Calendar 2.0//EN
METHOD:PUBLISH
X-PUBLISHED-TTL:P3D
REFRESH-INTERVAL:P3D
CALSCALE:GREGORIAN
BEGIN:VEVENT
DTSTART:20210722T163000Z
DTEND:20210722T223000Z
X-MICROSOFT-CDO-ALLDAYEVENT:FALSE
SUMMARY:2021 Chamber Golf Event
DESCRIPTION:JOIN US FOR OUR ANNUAL GOLF EVENT!\n\nA fun mixer that showcases local products and services.\n\n\n\n* Presented by Allina Health\n\n* Social Hour Sponsor Mille Lacs Corporate Ventures\n\n* Online Auction Sponsor Northeast Bank\n\n\n\n* Partner non-profit MN Youth Athletic Services\n\n\n\nSponsorships available to promote your business. Contact John Connelly
X-ALT-DESC;FMTTYPE=text/html:<span style="font-size:18px\;"><u><em><strong>JOIN US FOR OUR ANNUAL GOLF EVENT!</strong></em></u><br />\nA fun mixer that showcases local products and services.<br />\n<br />\n* Presented by Allina Health<br />\n* Social Hour Sponsor Mille Lacs Corporate Ventures<br />\n* Online Auction Sponsor Northeast Bank<br />\n<br />\n* Partner non-profit MN Youth Athletic Services</span><br />\n<br />\n<em><strong><span style="font-size:14px\;">Sponsorships available to promote your business. Contact John Connelly&nbsp\;</span></strong></em>
LOCATION:ONEKA RIDGE GOLF COURSE 5610 n. 120TH ST WHITE BEAR LAKE\, MN 55110
UID:e.263.14609
SEQUENCE:3
DTSTAMP:20260425T140014Z
URL:https://business.twincitiesnorth.org/events/details/2021-chamber-golf-event-14609
END:VEVENT

END:VCALENDAR
