BEGIN:VCALENDAR
VERSION:2.0
PRODID:-//ChamberMaster//Event Calendar 2.0//EN
METHOD:PUBLISH
X-PUBLISHED-TTL:P3D
REFRESH-INTERVAL:P3D
CALSCALE:GREGORIAN
BEGIN:VEVENT
DTSTART:20210901T170000Z
DTEND:20210901T170000Z
X-MICROSOFT-CDO-ALLDAYEVENT:FALSE
SUMMARY:AllGuard Cybersecurity Webinar
DESCRIPTION:AppGuard solution for online security. Sign up for a demo through CHIPS at \n\nhttps://calendly.com/tony-chipscs/appguard-demonstration-webinar?month=2021-08
X-ALT-DESC;FMTTYPE=text/html:AppGuard solution for online security. Sign up for a demo through CHIPS at&nbsp\;<br />\nhttps://calendly.com/tony-chipscs/appguard-demonstration-webinar?month=2021-08
LOCATION:Webinar
UID:e.263.14634
SEQUENCE:3
DTSTAMP:20260425T023239Z
URL:https://business.twincitiesnorth.org/events/details/allguard-cybersecurity-webinar-14634
END:VEVENT

END:VCALENDAR
