BEGIN:VCALENDAR
VERSION:2.0
PRODID:-//ChamberMaster//Event Calendar 2.0//EN
METHOD:PUBLISH
X-PUBLISHED-TTL:P3D
REFRESH-INTERVAL:P3D
CALSCALE:GREGORIAN
BEGIN:VEVENT
DTSTART:20210915T130000Z
DTEND:20210915T140000Z
X-MICROSOFT-CDO-ALLDAYEVENT:FALSE
SUMMARY:Arden Hills/Shoreview Business Council Meeting
DESCRIPTION:Network with businesses and city staff from Arden Hills and Shoreview.  Also\, Ramsey County will update us on construction project on Lexington Avenue. \n\n\n\nCome learn about local business issues like pending developments and construction. \n\n\n\nA fantastic way to connect with local solutions and expand your contacts locally.  Join us!
X-ALT-DESC;FMTTYPE=text/html:<br />\n<span style="font-size:14px\;"><strong>Network with businesses and city staff from Arden Hills and Shoreview.&nbsp\; Also\, Ramsey County will update us on construction project on Lexington Avenue.&nbsp\;<br />\n<br />\nCome learn about local business issues like pending developments and construction.&nbsp\;<br />\n<br />\nA fantastic way to connect with local solutions and expand your contacts locally.&nbsp\; Join us!</strong></span>
LOCATION:Hilton Garden Inn Shoreview 1050 Gramsie Rd Shoreview
UID:e.263.14631
SEQUENCE:3
DTSTAMP:20260425T024644Z
URL:https://business.twincitiesnorth.org/events/details/arden-hills-shoreview-business-council-meeting-14631
END:VEVENT

END:VCALENDAR
