BEGIN:VCALENDAR
VERSION:2.0
PRODID:-//ChamberMaster//Event Calendar 2.0//EN
METHOD:PUBLISH
X-PUBLISHED-TTL:P3D
REFRESH-INTERVAL:P3D
CALSCALE:GREGORIAN
BEGIN:VEVENT
DTSTART:20230621T130000Z
DTEND:20230621T140000Z
X-MICROSOFT-CDO-ALLDAYEVENT:FALSE
SUMMARY:Arden Hills/Shoreview Business Council Meeting
DESCRIPTION:UPDATE ON LEXINGTON AVENUE AND OTHER DEVELOPMENTS\n\n\n\nThe main focus will be an update on Lexington Avenue road construction. Here is the latest news. \n\n	Lane paving is going to go on over the next 1.5-2.0 weeks\n	Traffic remains one lane in each direction\, and Truck detours are posted\n	Traffic congestion at Red Fox has eased up slightly\, but we are still encouraging people to access the Lexington Corridor via County Road E.\n	Eastbound I-694 exit ramp will close tomorrow\, and is scheduled to reopen on June 21st.\n	Paving at the I-694 interchange and at Red Fox (partially) will take place during the ramp closure.\n	Project is still on schedule to have all lanes open to traffic by 8/1/23.\n\n\n\n\n\nNetwork with businesses and city staff from Arden Hills and Shoreview. \n\n\n\nCome learn about local business issues like pending developments and construction. \n\n\n\nA fantastic way to connect with local solutions and expand your contacts locally.  Join us!
X-ALT-DESC;FMTTYPE=text/html:<b><u>UPDATE ON LEXINGTON AVENUE AND OTHER DEVELOPMENTS</u></b><br />\n<br />\n<span style="font-size:14px\;"><strong>The main focus will be an update on Lexington Avenue road construction. Here is the latest news.&nbsp\;</strong></span>\n<ul style="color: rgb(36\, 36\, 36)\; font-family: &quot\;Segoe UI&quot\;\, &quot\;Segoe UI Web (West European)&quot\;\, &quot\;Segoe UI&quot\;\, -apple-system\, BlinkMacSystemFont\, Roboto\, &quot\;Helvetica Neue&quot\;\, sans-serif\; font-size: 15px\; margin-top: 0px\; margin-bottom: 0px\;" type="disc">\n	<li style="font-size: 11pt\; font-family: Calibri\, sans-serif\; margin: 0px\;">Lane paving is going to go on over the next 1.5-2.0 weeks</li>\n	<li style="font-size: 11pt\; font-family: Calibri\, sans-serif\; margin: 0px\;">Traffic remains one lane in each direction\, and Truck detours are posted</li>\n	<li style="font-size: 11pt\; font-family: Calibri\, sans-serif\; margin: 0px\;">Traffic congestion at Red Fox has eased up slightly\, but we are still encouraging people to access the Lexington Corridor via County Road E.</li>\n	<li style="font-size: 11pt\; font-family: Calibri\, sans-serif\; margin: 0px\;">Eastbound I-694 exit ramp will close tomorrow\, and is scheduled to reopen on June 21<sup>st</sup>.</li>\n	<li style="font-size: 11pt\; font-family: Calibri\, sans-serif\; margin: 0px\;">Paving at the I-694 interchange and at Red Fox (partially) will take place during the ramp closure.</li>\n	<li style="font-size: 11pt\; font-family: Calibri\, sans-serif\; margin: 0px\;">Project is still on schedule to have all lanes open to traffic by 8/1/23.</li>\n</ul>\n<br />\n<br />\n<span style="font-size:14px\;"><strong>Network with businesses and city staff from Arden Hills and Shoreview.&nbsp\;<br />\n<br />\nCome learn about local business issues like pending developments and construction.&nbsp\;<br />\n<br />\nA fantastic way to connect with local solutions and expand your contacts locally.&nbsp\; Join us!</strong></span>
LOCATION:Dunn Bros. Coffee Arden Hills County Road E Arden Hills
UID:e.263.14814
SEQUENCE:3
DTSTAMP:20260420T031418Z
URL:https://business.twincitiesnorth.org/events/details/arden-hills-shoreview-business-council-meeting-14814
END:VEVENT

END:VCALENDAR
