BEGIN:VCALENDAR
VERSION:2.0
PRODID:-//ChamberMaster//Event Calendar 2.0//EN
METHOD:PUBLISH
X-PUBLISHED-TTL:P3D
REFRESH-INTERVAL:P3D
CALSCALE:GREGORIAN
BEGIN:VEVENT
DTSTART:20211021T210000Z
DTEND:20211021T220000Z
X-MICROSOFT-CDO-ALLDAYEVENT:FALSE
SUMMARY:Avid Roseville Grand Opening
DESCRIPTION:Ribbon Cutting for Avid Roseville Hotel
X-ALT-DESC;FMTTYPE=text/html:Ribbon Cutting for Avid Roseville Hotel
LOCATION:Avid Roseville 3015 Centre Pointe Drive Roseville
UID:e.263.14649
SEQUENCE:3
DTSTAMP:20260425T004103Z
URL:https://business.twincitiesnorth.org/events/details/avid-roseville-grand-opening-14649
END:VEVENT

END:VCALENDAR
