BEGIN:VCALENDAR
VERSION:2.0
PRODID:-//ChamberMaster//Event Calendar 2.0//EN
METHOD:PUBLISH
X-PUBLISHED-TTL:P3D
REFRESH-INTERVAL:P3D
CALSCALE:GREGORIAN
BEGIN:VEVENT
DTSTART:20260512T200000Z
DTEND:20260512T210000Z
X-MICROSOFT-CDO-ALLDAYEVENT:FALSE
SUMMARY:Brito's Burrito - Grand Opening and Ribbon Cutting Ceremony
DESCRIPTION:Brito's Burrito Grand Opening Ribbon Cutting Ceremony\n\n\n\nCome on out and support your newest TCN Chamber Member! We welcome Jhony Sanchez and his family to the TCN family. Try the delicious burritos and fresh food.
X-ALT-DESC;FMTTYPE=text/html:<span style="font-size:20px\;">Brito&#39\;s Burrito Grand Opening Ribbon Cutting Ceremony<br />\n<br />\nCome on out and support your newest TCN Chamber Member! We welcome Jhony Sanchez and his family to the TCN family. Try the delicious burritos and fresh food.&nbsp\;</span><br />\n&nbsp\;
LOCATION:1757 Lexington Ave. N Roseville\, MN
UID:e.263.15193
SEQUENCE:3
DTSTAMP:20260421T002100Z
URL:https://business.twincitiesnorth.org/events/details/brito-s-burrito-grand-opening-and-ribbon-cutting-ceremony-15193
END:VEVENT

END:VCALENDAR
