BEGIN:VCALENDAR
VERSION:2.0
PRODID:-//ChamberMaster//Event Calendar 2.0//EN
METHOD:PUBLISH
X-PUBLISHED-TTL:P3D
REFRESH-INTERVAL:P3D
CALSCALE:GREGORIAN
BEGIN:VEVENT
DTSTART:20201218T173000Z
DTEND:20201218T175000Z
X-MICROSOFT-CDO-ALLDAYEVENT:FALSE
SUMMARY:Chamber Check In
DESCRIPTION:Chamber Check In\n\n\n\nThis is a live broadcast through CTV North Suburbs that happens weekly.  It features local businesses and shares their stories about how they are adapting to all the changes in our business environment. Guests give their input from diverse segments. \n\n\n\nFriday December 11\, 2020\n\n* Liberty Tax Service- Year end tactics and 2021 planning\n\n* True Partners Insurance\n\nOneka Ridge Golf Course
X-ALT-DESC;FMTTYPE=text/html:Chamber Check In<br />\n<br />\nThis is a live broadcast through CTV North Suburbs that happens weekly.&nbsp\; It features local businesses and shares their stories about how they are adapting to all the changes in our business environment. Guests give their input from diverse segments.&nbsp\;<br />\n<br />\n<strong><span style="font-size:14px\;"><u>Friday December 11\, 2020<br />\n* Liberty Tax Service- Year end tactics and 2021 planning<br />\n* True Partners Insurance<br />\nOneka Ridge Golf Course</u></span></strong>
LOCATION:CTV Facebook Feed
UID:e.263.14587
SEQUENCE:3
DTSTAMP:20260424T090131Z
URL:https://business.twincitiesnorth.org/events/details/chamber-check-in-14587
END:VEVENT

END:VCALENDAR
