BEGIN:VCALENDAR
VERSION:2.0
PRODID:-//ChamberMaster//Event Calendar 2.0//EN
METHOD:PUBLISH
X-PUBLISHED-TTL:P3D
REFRESH-INTERVAL:P3D
CALSCALE:GREGORIAN
BEGIN:VEVENT
DTSTART:20210409T163000Z
DTEND:20210409T165000Z
X-MICROSOFT-CDO-ALLDAYEVENT:FALSE
SUMMARY:Chamber Check In
DESCRIPTION:Chamber Check In\n\n\n\nThis is a live broadcast through CTV North Suburbs that happens weekly.  It features local businesses and shares their stories about how they are adapting to all the changes in our business environment. Guests give their input from diverse segments.
X-ALT-DESC;FMTTYPE=text/html:Chamber Check In<br />\n<br />\nThis is a live broadcast through CTV North Suburbs that happens weekly.&nbsp\; It features local businesses and shares their stories about how they are adapting to all the changes in our business environment. Guests give their input from diverse segments.&nbsp\;<br />\n<br />\n&nbsp\;
LOCATION:CTV Facebook Feed
UID:e.263.14607
SEQUENCE:3
DTSTAMP:20260425T155539Z
URL:https://business.twincitiesnorth.org/events/details/chamber-check-in-14607
END:VEVENT

END:VCALENDAR
