BEGIN:VCALENDAR
VERSION:2.0
PRODID:-//ChamberMaster//Event Calendar 2.0//EN
METHOD:PUBLISH
X-PUBLISHED-TTL:P3D
REFRESH-INTERVAL:P3D
CALSCALE:GREGORIAN
BEGIN:VEVENT
DTSTART:20210903T163000Z
DTEND:20210903T164500Z
X-MICROSOFT-CDO-ALLDAYEVENT:FALSE
SUMMARY:Chamber Check In
DESCRIPTION:Chamber Check In\n\n\n\nThis is a live broadcast through NineNorth Cable TV that happens weekly.  It features local businesses and shares their stories about how they are adapting to all the changes in our business environment. Guests give their input from diverse segments. \n\n\n\nSPECIAL GUESTS\n\nEmmet Nath\, Premier Banks\n\nAndy Risvold\, Owner of Forgotten Star Brewery
X-ALT-DESC;FMTTYPE=text/html:<u><strong>Chamber Check In</strong></u><br />\n<br />\nThis is a live broadcast through NineNorth Cable TV that happens weekly.&nbsp\; It features local businesses and shares their stories about how they are adapting to all the changes in our business environment. Guests give their input from diverse segments.&nbsp\;<br />\n<br />\n<u><strong>SPECIAL GUESTS</strong></u><br />\nEmmet Nath\, Premier Banks<br />\nAndy Risvold\, Owner of Forgotten Star Brewery
LOCATION:CTV Facebook Feed
UID:e.263.14640
SEQUENCE:3
DTSTAMP:20260425T023239Z
URL:https://business.twincitiesnorth.org/events/details/chamber-check-in-14640
END:VEVENT

END:VCALENDAR
