BEGIN:VCALENDAR
VERSION:2.0
PRODID:-//ChamberMaster//Event Calendar 2.0//EN
METHOD:PUBLISH
X-PUBLISHED-TTL:P3D
REFRESH-INTERVAL:P3D
CALSCALE:GREGORIAN
BEGIN:VEVENT
DTSTART:20190214T210000Z
DTEND:20190214T230000Z
X-MICROSOFT-CDO-ALLDAYEVENT:FALSE
SUMMARY:Chamber Open House
DESCRIPTION:Chamber Open House\n\n\n\nYour are invited to check out our new office location at The Reserve Roseville.  A shared office space concept.  Join us for beverages/snacks and network with new connections.
X-ALT-DESC;FMTTYPE=text/html:<span style="font-size:18px\;"><u><strong>Chamber Open House</strong></u></span><br />\n<br />\nYour are invited to check out our new office location at The Reserve Roseville.&nbsp\; A shared office space concept.&nbsp\; Join us for beverages/snacks and network with new connections.&nbsp\;
LOCATION:Twin Cities North Chamber of Commerce The Reserve 1915 Hwy 36 West Roseville\, MN 55113
UID:e.263.14318
SEQUENCE:3
DTSTAMP:20260424T070840Z
URL:https://business.twincitiesnorth.org/events/details/chamber-open-house-14318
END:VEVENT

END:VCALENDAR
