BEGIN:VCALENDAR
VERSION:2.0
PRODID:-//ChamberMaster//Event Calendar 2.0//EN
METHOD:PUBLISH
X-PUBLISHED-TTL:P3D
REFRESH-INTERVAL:P3D
CALSCALE:GREGORIAN
BEGIN:VEVENT
DTSTART:20191121T133000Z
DTEND:20191121T144500Z
X-MICROSOFT-CDO-ALLDAYEVENT:FALSE
SUMMARY:Coffee & Connections
DESCRIPTION:Company Fitness and Wellness\n\n\nJoe Coulihan a Corporate consultant on HR will share his strategies and actions which result in employee retention\, contentment\, and recruitment. Come find out the latest trends impacting the workplace. \n\n\n\nCoffee and Connections  is a causal networking group that meets each month to connect and learn more about the business community. Each meeting features open networking over coffee\, a featured guest speaker\, and time for each attendee to give a 60 second business commercial and exchange referrals.\n\nChamber members and non-members are welcome!\n\n\n\nInterested in being our featured speaker? Please contact Sue Schabert\, Interim President at support@twincitiesnorth.org.
X-ALT-DESC;FMTTYPE=text/html:<h2 style="font-style: italic\; text-align: center\;"><span style="font-family:verdana\;"><span style="font-size:18px\;"><strong><span style="color:#006400\;">Company Fitness and Wellness</span></strong></span></span></h2>\n<br />\nJoe Coulihan a Corporate consultant on HR will share his strategies and actions which result in employee retention\, contentment\, and recruitment. Come find out the latest trends impacting the workplace.&nbsp\;<br />\n<br />\n<em><span style="font-family:arial\,sans-serif\;"><span style="font-size:9.0pt\;">Coffee and Connections</span></span></em><span style="font-family:arial\,sans-serif\;"><span style="font-size:9.0pt\;">&nbsp\; is a causal networking group that meets each month to connect and learn more about the business community. Each meeting features open networking over coffee\, a featured guest speaker\, and time for each attendee&nbsp\;to give a 60 second business commercial and exchange referrals.<br />\n<em><span style="font-family:arial\,sans-serif\;">Chamber members and non-members are welcome!</span></em><br />\n<br />\nInterested in being our featured speaker? Please contact Sue Schabert\, Interim President&nbsp\;at <a href="mailto:support@twincitiesnorth.org">support@twincitiesnorth.org</a>.</span></span><br />\n&nbsp\;
LOCATION:CTV NORTH SUBURBAN ACCESS 2670 Arthur St Roseville\, 55113
UID:e.263.14370
SEQUENCE:3
DTSTAMP:20260419T124408Z
URL:https://business.twincitiesnorth.org/events/details/coffee-connections-14370
END:VEVENT

END:VCALENDAR
