BEGIN:VCALENDAR
VERSION:2.0
PRODID:-//ChamberMaster//Event Calendar 2.0//EN
METHOD:PUBLISH
X-PUBLISHED-TTL:P3D
REFRESH-INTERVAL:P3D
CALSCALE:GREGORIAN
BEGIN:VEVENT
DTSTART:20240308T140000Z
DTEND:20240308T150000Z
X-MICROSOFT-CDO-ALLDAYEVENT:FALSE
SUMMARY:Columbia Heights and Fridley Business Council Meeting
DESCRIPTION:BUSINESS UPDATES AND RESOURCES\n\nLearn about new economic developments in Columbia Heights and Fridley. Also\, our special guest this month is from the MN Retailers Assn and will share an update on the new cannabis law and impact on local businesses\n\n Learn more and attend!\n\n\n\n\n\n\n\nJoin key businesses and stakeholders for a virtual Columbia Heights and Fridley Business Council meeting.  Your opportunity to share updates\, feedback\, and business issues.  The City will go over the latest resources for businesses during this time. \n.
X-ALT-DESC;FMTTYPE=text/html:<b><u>BUSINESS UPDATES AND RESOURCES<br />\nLearn about new economic developments in Columbia Heights and Fridley. Also\, our special guest this month is from the MN Retailers Assn and will share an update on the new cannabis law and impact on local businesses</u></b><br />\n&nbsp\;Learn more and attend!<br />\n<br />\n<br />\n<br />\n<b><u>Join key businesses and stakeholders for a virtual Columbia Heights and Fridley Business Council meeting.&nbsp\; Your opportunity to share updates\, feedback\, and business issues.&nbsp\; The City will go over the latest resources for businesses during this time.&nbsp\;</u></b>\n<p class="x_MsoNormal" style="margin: 0in\; font-size: 11pt\; font-family: Calibri\, sans-serif\; color: rgb(32\, 31\, 30)\;">.</p>\n
LOCATION:In person Fridley City Hall 7071 University Avenue Fridley
UID:e.263.14899
SEQUENCE:3
DTSTAMP:20260424T002454Z
URL:https://business.twincitiesnorth.org/events/details/columbia-heights-and-fridley-business-council-meeting-14899
END:VEVENT

END:VCALENDAR
