BEGIN:VCALENDAR
VERSION:2.0
PRODID:-//ChamberMaster//Event Calendar 2.0//EN
METHOD:PUBLISH
X-PUBLISHED-TTL:P3D
REFRESH-INTERVAL:P3D
CALSCALE:GREGORIAN
BEGIN:VEVENT
DTSTART:20211203T140000Z
DTEND:20211203T150000Z
X-MICROSOFT-CDO-ALLDAYEVENT:FALSE
SUMMARY:Columbia Heights Business Council - Quarterly Meeting
DESCRIPTION:BUSINESS UPDATES AND RESOURCES\n\n\n\nJoin key businesses and stakeholders for a virtual Columbia Heights Business Council meeting.  Your opportunity to share updates\, feedback\, and business issues.  The City will go over the latest resources for businesses during this time. \n\nSpecial Guest: Columbia Heights Chief of Police will provide updates new initiatives for businesses to consider. \n\n\n\n\n\n\n\n\n\n\n\n\n\n\n\nColumbia Heights Business Council gathers businesses and stakeholders to share information and connect.
X-ALT-DESC;FMTTYPE=text/html:<b><u>BUSINESS UPDATES AND RESOURCES<br />\n<br />\nJoin key businesses and stakeholders for a virtual Columbia Heights Business Council meeting.&nbsp\; Your opportunity to share updates\, feedback\, and business issues.&nbsp\; The City will go over the latest resources for businesses during this time.&nbsp\;<br />\nSpecial Guest: Columbia Heights Chief of Police will provide updates new initiatives for businesses to consider.&nbsp\;</u></b><br />\n<br />\n<br />\n<br />\n<br />\n<br />\n<br />\n<br />\nColumbia Heights Business Council gathers businesses and stakeholders to share information and connect.<br />\n&nbsp\;
LOCATION:In person Columbia Heights Library Central Ave Columbia Heights
UID:e.263.14644
SEQUENCE:3
DTSTAMP:20260424T210049Z
URL:https://business.twincitiesnorth.org/events/details/columbia-heights-business-council-quarterly-meeting-14644
END:VEVENT

END:VCALENDAR
