BEGIN:VCALENDAR
VERSION:2.0
PRODID:-//ChamberMaster//Event Calendar 2.0//EN
METHOD:PUBLISH
X-PUBLISHED-TTL:P3D
REFRESH-INTERVAL:P3D
CALSCALE:GREGORIAN
BEGIN:VEVENT
DTSTART;VALUE=DATE:20250201
DTEND;VALUE=DATE:20250202
TRANSP:TRANSPARENT
X-MICROSOFT-CDO-ALLDAYEVENT:TRUE
SUMMARY:Free Heart Screening - Play for Patrick Foundation
DESCRIPTION:FREE HEART SCREEN\n\nThis is part of National Heart Screening Day. This is provided free of charge by the Play for Patrick Foundation based in Shoreview.
X-ALT-DESC;FMTTYPE=text/html:FREE HEART SCREEN<br />\nThis is part of National Heart Screening Day. This is provided free of charge by the Play for Patrick Foundation based in Shoreview.&nbsp\;
LOCATION:HIGHVIEW MIDDLE SCHOOL NEW BRIGHTON
UID:e.263.15031
SEQUENCE:3
DTSTAMP:20260422T134210Z
URL:https://business.twincitiesnorth.org/events/details/free-heart-screening-play-for-patrick-foundation-15031
END:VEVENT

END:VCALENDAR
