BEGIN:VCALENDAR
VERSION:2.0
PRODID:-//ChamberMaster//Event Calendar 2.0//EN
METHOD:PUBLISH
X-PUBLISHED-TTL:P3D
REFRESH-INTERVAL:P3D
CALSCALE:GREGORIAN
BEGIN:VEVENT
DTSTART:20211014T130000Z
DTEND:20211014T140000Z
X-MICROSOFT-CDO-ALLDAYEVENT:FALSE
SUMMARY:Fridley and Spring Lake Park Business Council
DESCRIPTION:Guest Speakers\n\nScott Hickok\, City of Fridley\n\nSamantha Markman\, Anoka County\n\nSpring Lake Park Rep.\n\nDevelopment in Fridley and Southern Anoka County\n\n\nJoin us for a briefing on economic development in our area. \n\n\n\nAttend the Fridley/Spring Lake Park Business Council and gather together with business owners and employees in the North Metro and talk about the importance of business community leadership and engagement in regional decision making.
X-ALT-DESC;FMTTYPE=text/html:<div style="text-align: center\;"><span style="font-size:14px\;"><strong><u>Guest Speakers<br />\nScott Hickok\, City of Fridley<br />\nSamantha Markman\, Anoka County<br />\nSpring Lake Park Rep.</u></strong><br />\n<strong><i>Development in Fridley and Southern Anoka County</i></strong></span></div>\n<br />\n<strong><span style="font-size:14px\;">Join us for a briefing on economic development in our area.&nbsp\;</span></strong><br />\n<br />\n<span font-size:="" line-height:="" ms="" sans="" style="font-family: Arial\, Helvetica\, sans-serif\, ">Attend the Fridley/Spring Lake Park Business Council and gather together with business owners and employees in the&nbsp\;North Metro and talk about the importance of business community leadership and engagement in regional decision making.</span>
LOCATION:Fridley City Hall 7071University Ave N Fridley
UID:e.263.14637
SEQUENCE:3
DTSTAMP:20260425T004819Z
URL:https://business.twincitiesnorth.org/events/details/fridley-and-spring-lake-park-business-council-14637
END:VEVENT

END:VCALENDAR
