BEGIN:VCALENDAR
VERSION:2.0
PRODID:-//ChamberMaster//Event Calendar 2.0//EN
METHOD:PUBLISH
X-PUBLISHED-TTL:P3D
REFRESH-INTERVAL:P3D
CALSCALE:GREGORIAN
BEGIN:VEVENT
DTSTART:20190118T133000Z
DTEND:20190118T150000Z
X-MICROSOFT-CDO-ALLDAYEVENT:FALSE
SUMMARY:Legislative Breakfast 1/18/19
DESCRIPTION:IMMIGRATION AND WORKFORCE FOR BUSINESS\n\n\n\nBoth issues are front and center in policy debates.  Come hear from three guests representing different solutions that will impact business. They will also share opportunities for local business to adapt to changes being proposed. \n\n\n\nTCN CHAMBER LEGISLATIVE BREAKFAST SERIES IS SPONSORED BY:\n\nMICRO CONTROL\n\nMILLE LACS CORPORATE VENTURES\n\nMATEER PROPERTIES\n\nWALMART
X-ALT-DESC;FMTTYPE=text/html:<span style="font-size: 20px\;"><b><u>IMMIGRATION AND WORKFORCE FOR BUSINESS</u></b></span><br />\n<br />\nBoth issues are front and center in policy debates.&nbsp\; Come hear from three guests representing different solutions that will impact business. They will also share opportunities for local business to adapt to changes being proposed.&nbsp\;<br />\n<br />\nTCN CHAMBER LEGISLATIVE BREAKFAST SERIES IS SPONSORED BY:<br />\nMICRO CONTROL<br />\nMILLE LACS CORPORATE VENTURES<br />\nMATEER PROPERTIES<br />\nWALMART<br />\n<br />\n&nbsp\;
LOCATION:North Metro Event Center Best Western Plus Shoreview 1000 Gramsie Road Shoreview\, MN 55126
UID:e.263.14312
SEQUENCE:3
DTSTAMP:20260424T181913Z
URL:https://business.twincitiesnorth.org/events/details/legislative-breakfast-1-18-19-14312
END:VEVENT

END:VCALENDAR
