BEGIN:VCALENDAR
VERSION:2.0
PRODID:-//ChamberMaster//Event Calendar 2.0//EN
METHOD:PUBLISH
X-PUBLISHED-TTL:P3D
REFRESH-INTERVAL:P3D
CALSCALE:GREGORIAN
BEGIN:VEVENT
DTSTART:20181116T133000Z
DTEND:20181116T150000Z
X-MICROSOFT-CDO-ALLDAYEVENT:FALSE
SUMMARY:Legislative Breakfast 11/16/18
DESCRIPTION:COUNTY COMMISSIONERS UPDATE\n\nJoin us for a info packed session with our area Commissioners. Find out what new initiatives and plans are in place for 2019 that will impact your business.
X-ALT-DESC;FMTTYPE=text/html:<span style="font-size: 20px\;"><strong>COUNTY COMMISSIONERS UPDATE</strong><br />\nJoin us for a info packed session with our area Commissioners. Find out what new initiatives and plans are in place for 2019 that will impact your business.</span>
LOCATION:Hilton Garden Inn Shoreview (next to Best Western Plus) 1000 Gramsie Road Shoreview\, MN 55126
UID:e.263.14294
SEQUENCE:3
DTSTAMP:20260426T003605Z
URL:https://business.twincitiesnorth.org/events/details/legislative-breakfast-11-16-18-14294
END:VEVENT

END:VCALENDAR
