BEGIN:VCALENDAR
VERSION:2.0
PRODID:-//ChamberMaster//Event Calendar 2.0//EN
METHOD:PUBLISH
X-PUBLISHED-TTL:P3D
REFRESH-INTERVAL:P3D
CALSCALE:GREGORIAN
BEGIN:VEVENT
DTSTART:20190315T123000Z
DTEND:20190315T140000Z
X-MICROSOFT-CDO-ALLDAYEVENT:FALSE
SUMMARY:Legislative Breakfast 3/15/19
DESCRIPTION:TRANSPORTATION UPDATE WITH MN DOT COMMISSIONER\n\n\n\nJoin us and our guest MN DOT Commissioner Margaret Anderson Kelliher for a critical update on upcoming construction and initiatives that will impact your business.  How can we better inform our staff\, vendors\, and guests with tools to help adapt to the coming construction season.  Also\, what are the future transportation plans for our area. What is being proposed at the state level?  FIND OUT AND ATTEND!\n\n\n\nTCN CHAMBER LEGISLATIVE BREAKFAST SERIES IS SPONSORED BY:\n\nMICRO CONTROL\n\nMILLE LACS CORPORATE VENTURES\n\nMATEER PROPERTIES\n\nWALMART
X-ALT-DESC;FMTTYPE=text/html:<span style="font-size: 20px\;"><b><u>TRANSPORTATION UPDATE WITH MN DOT COMMISSIONER</u></b></span><br />\n<br />\nJoin us and our guest MN DOT Commissioner Margaret Anderson Kelliher for a critical update on upcoming construction and initiatives that will impact your business.&nbsp\; How can we better inform our staff\, vendors\, and guests with tools to help adapt to the coming construction season.&nbsp\; Also\, what are the future transportation plans for our area. What is being proposed at the state level?&nbsp\; FIND OUT AND ATTEND!<br />\n<br />\nTCN CHAMBER LEGISLATIVE BREAKFAST SERIES IS SPONSORED BY:<br />\nMICRO CONTROL<br />\nMILLE LACS CORPORATE VENTURES<br />\nMATEER PROPERTIES<br />\nWALMART<br />\n<br />\n&nbsp\;
LOCATION:North Metro Event Center Best Western Plus Shoreview 1000 Gramsie Road Shoreview\, MN 55126
UID:e.263.14328
SEQUENCE:3
DTSTAMP:20260424T161127Z
URL:https://business.twincitiesnorth.org/events/details/legislative-breakfast-3-15-19-14328
END:VEVENT

END:VCALENDAR
