BEGIN:VCALENDAR
VERSION:2.0
PRODID:-//ChamberMaster//Event Calendar 2.0//EN
METHOD:PUBLISH
X-PUBLISHED-TTL:P3D
REFRESH-INTERVAL:P3D
CALSCALE:GREGORIAN
BEGIN:VEVENT
DTSTART:20191220T133000Z
DTEND:20191220T150000Z
X-MICROSOFT-CDO-ALLDAYEVENT:FALSE
SUMMARY:Legislative Breakfast: Counties update
DESCRIPTION:Legislative Breakfast with County Executives\n\n\n\nCounty Executives from Anoka and Ramsey County will provide and update on 2020 Budget\, business services\, and economic development. \n\n\n\nTCN CHAMBER LEGISLATIVE BREAKFAST SERIES IS SPONSORED BY:\n\nHAROLD HAMILTON\n\nMILLE LACS CORPORATE VENTURES\n\nMATEER PROPERTIES
X-ALT-DESC;FMTTYPE=text/html:<span style="font-size: 20px\;"><b><u><em>Legislative Breakfast with County Executives</em></u></b></span><br />\n<br />\nCounty Executives from Anoka and Ramsey County will provide and update on 2020 Budget\, business services\, and economic development.&nbsp\;<br />\n<br />\nTCN CHAMBER LEGISLATIVE BREAKFAST SERIES IS SPONSORED BY:<br />\nHAROLD HAMILTON<br />\nMILLE LACS CORPORATE VENTURES<br />\nMATEER PROPERTIES<br />\n<br />\n<br />\n&nbsp\;
LOCATION:Hilton Garden Inn Shoreview 1000 Gramsie Road Shoreview\, MN 55126
UID:e.263.14497
SEQUENCE:3
DTSTAMP:20260421T084913Z
URL:https://business.twincitiesnorth.org/events/details/legislative-breakfast-counties-update-14497
END:VEVENT

END:VCALENDAR
