BEGIN:VCALENDAR
VERSION:2.0
PRODID:-//ChamberMaster//Event Calendar 2.0//EN
METHOD:PUBLISH
X-PUBLISHED-TTL:P3D
REFRESH-INTERVAL:P3D
CALSCALE:GREGORIAN
BEGIN:VEVENT
DTSTART:20190920T123000Z
DTEND:20190920T140000Z
X-MICROSOFT-CDO-ALLDAYEVENT:FALSE
SUMMARY:Legislative Breakfast: Ramsey County Candidate Forum
DESCRIPTION:Legislative Breakfast with Candidates for Ramsey County Commissioner. \n\n\n\nThis program brings the two individuals who want to represent District 1 in Ramsey County which covers\, Shoreview\, Arden Hills\, and Mounds View.  Find out their positions on critical issues facing businesses in Ramsey County\n\n\n\nStay informed and attend. \n\n\n\n\n\nTCN CHAMBER LEGISLATIVE BREAKFAST SERIES IS SPONSORED BY:\n\nHAROLD HAMILTON\n\nMILLE LACS CORPORATE VENTURES\n\nMATEER PROPERTIES\n\nWALMART
X-ALT-DESC;FMTTYPE=text/html:<span style="font-size: 20px\;"><b><u><em>Legislative Breakfast with Candidates for Ramsey County Commissioner.&nbsp\;<br />\n<br />\nThis program brings the two individuals who want to represent District 1 in Ramsey County which covers\, Shoreview\, Arden Hills\, and Mounds View.&nbsp\; Find out their positions on critical issues facing businesses in Ramsey County</em><br />\n<br />\nStay informed and attend.&nbsp\;</u></b></span><br />\n<br />\n<br />\nTCN CHAMBER LEGISLATIVE BREAKFAST SERIES IS SPONSORED BY:<br />\nHAROLD HAMILTON<br />\nMILLE LACS CORPORATE VENTURES<br />\nMATEER PROPERTIES<br />\nWALMART<br />\n<br />\n&nbsp\;
LOCATION:Hilton Garden Inn Shoreview 1000 Gramsie Road Shoreview\, MN 55126
UID:e.263.14357
SEQUENCE:3
DTSTAMP:20260422T013853Z
URL:https://business.twincitiesnorth.org/events/details/legislative-breakfast-ramsey-county-candidate-forum-14357
END:VEVENT

END:VCALENDAR
