BEGIN:VCALENDAR
VERSION:2.0
PRODID:-//ChamberMaster//Event Calendar 2.0//EN
METHOD:PUBLISH
X-PUBLISHED-TTL:P3D
REFRESH-INTERVAL:P3D
CALSCALE:GREGORIAN
BEGIN:VEVENT
DTSTART:20260611T213000Z
DTEND:20260611T233000Z
X-MICROSOFT-CDO-ALLDAYEVENT:FALSE
SUMMARY:Members Connect
DESCRIPTION:Members Connect Sponsored By Running Aces Casino\, Hotel & Racetrack!\n\nIncluding dinner and a drink!\n\nNetworking\, food\, drinks\, fun and horse racing!
X-ALT-DESC;FMTTYPE=text/html:Members Connect Sponsored By Running Aces Casino\, Hotel &amp\; Racetrack!<br />\nIncluding dinner and a drink!<br />\nNetworking\, food\, drinks\, fun and horse racing!
LOCATION:Running Aces Casino Hotel & Racetrack 15201 Running Aces Blvd. Columbus\, MN 55025
UID:e.263.15192
SEQUENCE:3
DTSTAMP:20260420T182526Z
URL:https://business.twincitiesnorth.org/events/details/members-connect-15192
END:VEVENT

END:VCALENDAR
