BEGIN:VCALENDAR
VERSION:2.0
PRODID:-//ChamberMaster//Event Calendar 2.0//EN
METHOD:PUBLISH
X-PUBLISHED-TTL:P3D
REFRESH-INTERVAL:P3D
CALSCALE:GREGORIAN
BEGIN:VEVENT
DTSTART:20210908T130000Z
DTEND:20210908T140000Z
X-MICROSOFT-CDO-ALLDAYEVENT:FALSE
SUMMARY:Mounds View Business Council
DESCRIPTION:Featured Topic \n\nMounds View Special Resources for Business \n\n\n\n \nJoin us for the latest information on new and planned developments in the City of Mounds View. Find out new opportunities for your business. with City leaders and stakeholders. Special Guest: Noah Her from Open To Business who will share resources for new and start up companies.
X-ALT-DESC;FMTTYPE=text/html:<div style="text-align: center\;"><span style="font-size:14px\;"><span style="font-family:verdana\;"><u><strong>Featured Topic&nbsp\;<br />\nMounds View Special Resources for Business&nbsp\;</strong></u></span></span><br />\n<br />\n&nbsp\;</div>\nJoin us for the latest information on new and planned developments in the City of Mounds View. Find out new opportunities for your business. with City leaders and stakeholders. Special Guest: Noah Her from Open To Business who will share resources for new and start up companies.&nbsp\;<br />\n&nbsp\;
LOCATION:In person meeting Mounds View Community Center Mounds View Blvd
UID:e.263.14628
SEQUENCE:3
DTSTAMP:20260425T024510Z
URL:https://business.twincitiesnorth.org/events/details/mounds-view-business-council-14628
END:VEVENT

END:VCALENDAR
