BEGIN:VCALENDAR
VERSION:2.0
PRODID:-//ChamberMaster//Event Calendar 2.0//EN
METHOD:PUBLISH
X-PUBLISHED-TTL:P3D
REFRESH-INTERVAL:P3D
CALSCALE:GREGORIAN
BEGIN:VEVENT
DTSTART:20211208T140000Z
DTEND:20211208T150000Z
X-MICROSOFT-CDO-ALLDAYEVENT:FALSE
SUMMARY:Mounds View Business Council
DESCRIPTION:Featured Topic \n\nMounds View Special Resources for Business \n\n\n\n \nJoin us for the latest information on new and planned developments in the City of Mounds View. Find out new opportunities for your business. with City leaders and stakeholders. \n\nSpecial Guest: Police Chief Nate Harder will share updates and tactics for businesses to safeguard property and associates.
X-ALT-DESC;FMTTYPE=text/html:<div style="text-align: center\;"><span style="font-size:14px\;"><span style="font-family:verdana\;"><u><strong>Featured Topic&nbsp\;<br />\nMounds View Special Resources for Business&nbsp\;</strong></u></span></span><br />\n<br />\n&nbsp\;</div>\nJoin us for the latest information on new and planned developments in the City of Mounds View. Find out new opportunities for your business. with City leaders and stakeholders.&nbsp\;<br />\nSpecial Guest: Police Chief Nate Harder will share updates and tactics for businesses to safeguard property and associates.&nbsp\;<br />\n&nbsp\;
LOCATION:In person meeting Mounds View Community Center Mounds View Blvd
UID:e.263.14645
SEQUENCE:3
DTSTAMP:20260424T212736Z
URL:https://business.twincitiesnorth.org/events/details/mounds-view-business-council-14645
END:VEVENT

END:VCALENDAR
