BEGIN:VCALENDAR
VERSION:2.0
PRODID:-//ChamberMaster//Event Calendar 2.0//EN
METHOD:PUBLISH
X-PUBLISHED-TTL:P3D
REFRESH-INTERVAL:P3D
CALSCALE:GREGORIAN
BEGIN:VEVENT
DTSTART:20220608T130000Z
DTEND:20220608T140000Z
X-MICROSOFT-CDO-ALLDAYEVENT:FALSE
SUMMARY:Mounds View Business Council
DESCRIPTION:Featured Topic \n\nCOST SEGREGATION FOR BUSINESSES\n\n \nOur topic this month is Cost Segregation. How can your business use it to help cash flow and aid in growing your business. \n\nJodi Nielsen is a Natl.  Sr. Account  Executive with Cost Segregations Services\, Inc (CSSI)  and Employee Retention  Credit  Retention  Specialists (ERC).  She will present on June 8th at the Mounds View Community center at 8:00a.m.\n\n The ERC is up to $26K for W2 employees for Qtr. 2\,3\, 4\, of 2020 and or Qtr. 1\,2\,3 of 2021.   The rules have changed\, even if you received PPP or EIDL monies\, you could now qualify.  We will explain how your decreased revenue in those quarters compared to 2019 Qtr.'s may qualify you \,or a supply chain disruption and or Partial / Full shutdown.  You do not need to qualify for all \, nor do you have to qualify for every Qtr.   Majority of businesses are qualifying. This basically once in a lifetime Thank you for maintaining W2 employees will be ending in 2023. \n\n\n\n\nJoin us for the latest information on new and planned developments in the City of Mounds View. Find out new opportunities for your business. with City leaders and stakeholders. \n\n\n\nSpecial Guest: \n\nTBD\n\nKeep updated and join us!
X-ALT-DESC;FMTTYPE=text/html:<div style="text-align: center\;"><span style="font-size:14px\;"><span style="font-family:verdana\;"><u><strong>Featured Topic&nbsp\;</strong></u></span></span><br />\n<strong>COST SEGREGATION FOR BUSINESSES</strong><br />\n&nbsp\;</div>\nOur topic this month is Cost Segregation. How can your business use it to help cash flow and aid in growing your business.&nbsp\;\n\n<p style="color: rgb(50\, 49\, 48)\; font-size: 11pt\; font-family: Calibri\, sans-serif\; margin: 0px\;"><span style="margin: 0px\; padding: 0px\; border: 0px\; font-style: inherit\; font-variant: inherit\; font-weight: inherit\; font-stretch: inherit\; font-size: 14pt\; line-height: inherit\; font-family: inherit\; vertical-align: baseline\; color: inherit\;">Jodi Nielsen is a Natl. &nbsp\;Sr. Account&nbsp\; Executive with Cost Segregations Services\, Inc (CSSI) &nbsp\;and Employee Retention &nbsp\;Credit &nbsp\;Retention &nbsp\;Specialists (ERC).&nbsp\; She will present on June 8<sup>th</sup>&nbsp\;at the Mounds View Community center at 8:00a.m.</span></p>\n\n<p style="color: rgb(50\, 49\, 48)\; font-size: 11pt\; font-family: Calibri\, sans-serif\; margin: 0px\;"><span style="margin: 0px\; padding: 0px\; border: 0px\; font-style: inherit\; font-variant: inherit\; font-weight: inherit\; font-stretch: inherit\; font-size: 14pt\; line-height: inherit\; font-family: inherit\; vertical-align: baseline\; color: inherit\;">&nbsp\;The ERC is up to $26K for W2 employees for Qtr. 2\,3\, 4\, of 2020 and or Qtr. 1\,2\,3 of 2021.&nbsp\; &nbsp\;The rules have changed\, even if you received PPP or EIDL monies\, you could now qualify.&nbsp\; We will explain how your decreased revenue in those quarters compared to 2019 Qtr.&rsquo\;s may qualify you \,or a supply chain disruption and or Partial / Full shutdown.&nbsp\; You do not need to qualify for all \, nor do you have to qualify for every Qtr.&nbsp\; &nbsp\;Majority of businesses are qualifying. This basically once in a lifetime Thank you for maintaining W2 employees will be ending in 2023.&nbsp\;</span></p>\n<br />\n<br />\nJoin us for the latest information on new and planned developments in the City of Mounds View. Find out new opportunities for your business. with City leaders and stakeholders.&nbsp\;<br />\n<br />\n<u><strong>Special Guest:&nbsp\;</strong></u><br />\nTBD<br />\nKeep updated and join us!
LOCATION:In person meeting Mounds View Community Center Mounds View Blvd
UID:e.263.14695
SEQUENCE:3
DTSTAMP:20260424T120843Z
URL:https://business.twincitiesnorth.org/events/details/mounds-view-business-council-14695
END:VEVENT

END:VCALENDAR
