BEGIN:VCALENDAR
VERSION:2.0
PRODID:-//ChamberMaster//Event Calendar 2.0//EN
METHOD:PUBLISH
X-PUBLISHED-TTL:P3D
REFRESH-INTERVAL:P3D
CALSCALE:GREGORIAN
BEGIN:VEVENT
DTSTART:20210916T130000Z
DTEND:20210916T140000Z
X-MICROSOFT-CDO-ALLDAYEVENT:FALSE
SUMMARY:New Brighton Business Council
DESCRIPTION:QUARTERLY BUSINESS TOPIC \n\nNEW BRIGHTON CITY RESOURCES AND RAMSEY COUNTY RESOURCES FOR BUSINESS\n\n \nCome meet other New Brighton businesses at our quarterly meeting. Also catch up on the latest developments in New Brighton. You can also register to join us virtually but must be done in advance. \n\n\n\nSpecial Guest from Ramsey County Ling Becker to share new information about \n\nresources Ramsey County now has for employers. Tap into ways that help posting opportunities and promote your initiatives.\n\n\n\n\n\nAttend the New Brighton Business Council and gather together with business owners and employees in the North Metro and talk about the importance of business community leadership and engagement in regional decision making.
X-ALT-DESC;FMTTYPE=text/html:<div style="text-align: center\;"><span style="font-size:18px\;"><strong><u>QUARTERLY BUSINESS TOPIC&nbsp\;<br />\nNEW BRIGHTON CITY RESOURCES AND RAMSEY COUNTY RESOURCES FOR BUSINESS</u></strong></span><br />\n&nbsp\;</div>\n<span style="font-size:14px\;"><strong>Come meet other New Brighton businesses at our quarterly meeting. Also catch up on the latest developments in New Brighton. You can also register to join us virtually but must be done in advance.&nbsp\;<br />\n<br />\nSpecial Guest from Ramsey County Ling Becker to share new information about&nbsp\;<br />\nresources Ramsey County now has for employers. Tap into ways that help posting opportunities and promote your initiatives.</strong></span><br />\n<br />\n<br />\n<em font-size:="" line-height:="" ms="" sans="" style="font-family: Arial\, Helvetica\, sans-serif\, ">Attend the New Brighton Business Council and gather together with business owners and employees in the&nbsp\;North Metro and talk about the importance of business community leadership and engagement in regional decision making.</em>
LOCATION:Meeting In Person Dalco Enterprises 300 5th Ave NW New Brighton\, MN 55112 Virtual: please register and a link will be sent the day prior to the event * The New Brighton Business Council meets Quarterly from 8 a.m. to 9:00 am during September\, December\, March\, and June.
UID:e.263.14630
SEQUENCE:3
DTSTAMP:20260425T024348Z
URL:https://business.twincitiesnorth.org/events/details/new-brighton-business-council-14630
END:VEVENT

END:VCALENDAR
