BEGIN:VCALENDAR
VERSION:2.0
PRODID:-//ChamberMaster//Event Calendar 2.0//EN
METHOD:PUBLISH
X-PUBLISHED-TTL:P3D
REFRESH-INTERVAL:P3D
CALSCALE:GREGORIAN
BEGIN:VEVENT
DTSTART;VALUE=DATE:20210917
DTEND;VALUE=DATE:20210919
TRANSP:TRANSPARENT
X-MICROSOFT-CDO-ALLDAYEVENT:TRUE
SUMMARY:Oktoberfest at Forgotten Star Brewing
DESCRIPTION:Oktoberfest\n\n\n\nA celebration of music\, food\, and of course BEER. For a full listing of the weekend go to https://www.forgottenstarbrewing.com/
X-ALT-DESC;FMTTYPE=text/html:<u><strong>Oktoberfest</strong></u><br />\n<br />\nA celebration of music\, food\, and of course BEER. For a full listing of the weekend go to&nbsp\;https://www.forgottenstarbrewing.com/&nbsp\;
LOCATION:Forgotten Star Brewing Co. 38 Northern Stacks Drive Fridley
UID:e.263.14636
SEQUENCE:3
DTSTAMP:20260425T023635Z
URL:https://business.twincitiesnorth.org/events/details/oktoberfest-at-forgotten-star-brewing-14636
END:VEVENT

END:VCALENDAR
