BEGIN:VCALENDAR
VERSION:2.0
PRODID:-//ChamberMaster//Event Calendar 2.0//EN
METHOD:PUBLISH
X-PUBLISHED-TTL:P3D
REFRESH-INTERVAL:P3D
CALSCALE:GREGORIAN
BEGIN:VEVENT
DTSTART:20211029T130000Z
DTEND:20211029T180000Z
X-MICROSOFT-CDO-ALLDAYEVENT:FALSE
SUMMARY:Pheasant Hunt 2021
DESCRIPTION:Pheasant Hunt 2021\n\nPresented by Financial One Credit Union\n\n\n\nJoin us for a morning of outdoors and recreation at our Annual Pheasant Hunt.  Limited space available for groups of 4 to enjoy a guided hunt without going far away!  This is a perfect activity for a business team looking for a safe and unique adventure close to home. \n\n\n\nA unique experience with your fellow chamber members that includes: released birds\, guide with dog\, shells\, lunch with beverages\, and of course cleaned birds to take home!
X-ALT-DESC;FMTTYPE=text/html:<strong style="font-size: 14px\;"><u><span style="font-size:18px\;">Pheasant Hunt 2021</span><br />\nPresented by Financial One Credit Union</u><br />\n<br />\nJoin us for a morning of outdoors and recreation at our Annual Pheasant Hunt.&nbsp\; Limited space available for groups of 4 to enjoy a guided hunt without going far away!&nbsp\; This is a perfect activity for a business team looking for a safe and unique adventure close to home.&nbsp\;<br />\n<br />\nA unique experience with your fellow chamber members that includes: released birds\, guide with dog\, shells\, lunch with beverages\, and of course cleaned birds to take home!</strong>
LOCATION:Wild Wings of Oneka 14814 Irish Ave Hugo\, MN
UID:e.263.14639
SEQUENCE:3
DTSTAMP:20260425T003754Z
URL:https://business.twincitiesnorth.org/events/details/pheasant-hunt-2021-14639
END:VEVENT

END:VCALENDAR
