BEGIN:VCALENDAR
VERSION:2.0
PRODID:-//ChamberMaster//Event Calendar 2.0//EN
METHOD:PUBLISH
X-PUBLISHED-TTL:P3D
REFRESH-INTERVAL:P3D
CALSCALE:GREGORIAN
BEGIN:VEVENT
DTSTART:20220613T150000Z
DTEND:20220613T170000Z
X-MICROSOFT-CDO-ALLDAYEVENT:FALSE
SUMMARY:PNC Bank Roseville Grand Opening
DESCRIPTION:PNC Bank Roseville Grand Opening\n\n\n\nPNC Bank is proud to bring over 160 years of trusted banking experience to Minneapolis. Join us to celebrate our Grand Opening Ribbon Ceremony and to learn more about the ways we can help you achieve your financial goals. Enjoy complimentary refreshments\, explore our new Roseville Solution Center\, and talk with members of the PNC team for financial answers\, ideas and insights.
X-ALT-DESC;FMTTYPE=text/html:<u><strong>PNC Bank Roseville Grand Opening</strong></u><br />\n<br />\nPNC Bank is proud to bring over 160 years of trusted banking experience to Minneapolis. Join us to celebrate our Grand Opening Ribbon Ceremony and to learn more about the ways we can help you achieve your financial goals. Enjoy complimentary refreshments\, explore our new Roseville Solution Center\, and talk with members of the PNC team for financial answers\, ideas and insights.
LOCATION:PNC Bank Roseville Solution Center 2350 Fairview Ave N Roseville
UID:e.263.14704
SEQUENCE:3
DTSTAMP:20260424T121351Z
URL:https://business.twincitiesnorth.org/events/details/pnc-bank-roseville-grand-opening-14704
END:VEVENT

END:VCALENDAR
