BEGIN:VCALENDAR
VERSION:2.0
PRODID:-//ChamberMaster//Event Calendar 2.0//EN
METHOD:PUBLISH
X-PUBLISHED-TTL:P3D
REFRESH-INTERVAL:P3D
CALSCALE:GREGORIAN
BEGIN:VEVENT
DTSTART:20220617T123000Z
DTEND:20220617T134500Z
X-MICROSOFT-CDO-ALLDAYEVENT:FALSE
SUMMARY:Public Policy Forum with DEED Commissioner Steve Grove
DESCRIPTION:DEED MN Update from Commissioner Steve Grove\n\n\n\nOur Public Policy Forum this month features DEED Commissioner Steve Grove. He will share updates on key business impacts such as:\n\n* Unemployment Insurance Legislation and its impact on your premiums\n\n* Frontline Worker Pay and the process for applying\n\n* Workforce initiatives and news about Career Centers and DEED outreach to address workforce issues\n\n\n\nA great opportunity to stay informed and share your concerns with our DEED Commissioner!\n\n\n\nRegister Today
X-ALT-DESC;FMTTYPE=text/html:<span style="font-size:14px\;"><u><strong>DEED MN Update from Commissioner Steve Grove</strong></u></span><br />\n<br />\n<span style="font-size:14px\;">Our Public Policy Forum this month features DEED Commissioner Steve Grove. He will share updates on key business impacts such as:<br />\n* Unemployment Insurance Legislation and its impact on your premiums<br />\n* Frontline Worker Pay and the process for applying<br />\n* Workforce initiatives and news about Career Centers and DEED outreach to address workforce issues<br />\n<br />\nA great opportunity to stay informed and share your concerns with our DEED Commissioner!<br />\n<br />\nRegister Today</span>
LOCATION:Doubletree Hotel Roseville 2540 Cleveland Ave N Roseville
UID:e.263.14710
SEQUENCE:3
DTSTAMP:20260424T120951Z
URL:https://business.twincitiesnorth.org/events/details/public-policy-forum-with-deed-commissioner-steve-grove-14710
END:VEVENT

END:VCALENDAR
