BEGIN:VCALENDAR
VERSION:2.0
PRODID:-//ChamberMaster//Event Calendar 2.0//EN
METHOD:PUBLISH
X-PUBLISHED-TTL:P3D
REFRESH-INTERVAL:P3D
CALSCALE:GREGORIAN
BEGIN:VEVENT
DTSTART:20260422T130000Z
DTEND:20260422T140000Z
X-MICROSOFT-CDO-ALLDAYEVENT:FALSE
SUMMARY:Roseville Business Connect
DESCRIPTION:ROSEVILLE BUSINESS CONNECT\n\nThe Roseville Economic Development Team will provide an update on all the pending developments and future developments impacting the business community in Roseville. \n\n\n\nTCN President\, Mike Dvorak will deliver updates from the Chamber.\n\n\n\nGuest Speaker: Scott Miller from Keller Williams Integrity Realty in Roseville will be the delivering commercial and residential trends report for the Roseville area as well as Minnesota. This lecture will focus on the Roseville businesses and residential neighborhoods and what to expect in 2026 and beyond.\n\n.\n\nRegister and join us!
X-ALT-DESC;FMTTYPE=text/html:<strong style="color: rgb(51\, 51\, 51)\; font-family: sans-serif\, Arial\, Verdana\, &quot\;Trebuchet MS&quot\;\; font-size: 13px\;"><u><span style="font-size: 18px\;">ROSEVILLE BUSINESS CONNECT</span></u><br />\n<span style="font-size: 18px\;">The Roseville Economic Development Team will provide an update on all the pending developments and future developments impacting the business community in Roseville.&nbsp\;<br />\n<br />\nTCN President\, Mike Dvorak will deliver updates from the Chamber.</span><br />\n<br />\n<span style="font-size: 18px\;">Guest Speaker: Scott Miller from Keller Williams Integrity Realty in Roseville will be the delivering commercial and residential trends report for the Roseville area as well as Minnesota. This lecture will focus on the Roseville businesses and residential neighborhoods and what to expect in 2026 and beyond.</span></strong><br style="color: rgb(51\, 51\, 51)\; font-family: sans-serif\, Arial\, Verdana\, &quot\;Trebuchet MS&quot\;\; font-size: 13px\;" />\n<span style="color: rgb(35\, 31\, 32)\; font-family: Raleway\, sans-serif\; font-size: 16px\;">.</span><br style="color: rgb(51\, 51\, 51)\; font-family: sans-serif\, Arial\, Verdana\, &quot\;Trebuchet MS&quot\;\; font-size: 13px\;" />\n<span style="color: rgb(51\, 51\, 51)\; font-family: sans-serif\, Arial\, Verdana\, &quot\;Trebuchet MS&quot\;\; font-size: 18px\;">Register and join us!</span>
LOCATION:Roseville City Hall 2660 Civic Center Dr. Roseville
UID:e.263.15152
SEQUENCE:3
DTSTAMP:20260423T041917Z
URL:https://business.twincitiesnorth.org/events/details/roseville-business-connect-15152
END:VEVENT

END:VCALENDAR
