BEGIN:VCALENDAR
VERSION:2.0
PRODID:-//ChamberMaster//Event Calendar 2.0//EN
METHOD:PUBLISH
X-PUBLISHED-TTL:P3D
REFRESH-INTERVAL:P3D
CALSCALE:GREGORIAN
BEGIN:VEVENT
DTSTART:20230322T123000Z
DTEND:20230322T133000Z
X-MICROSOFT-CDO-ALLDAYEVENT:FALSE
SUMMARY:Roseville Business Council
DESCRIPTION:Annual Transportation Update\n\n\n\nLook ahead to transportation and other large infrastructure projects in the Roseville area in 2023 and beyond. Representatives from MnDOT and the City of Roseville will highlight current and upcoming projects in the area.\n\n \nRoseville Business Council meetings are co-hosted by the following organizations:\n\n\n\nCity of Roseville\n\nTwin Cities North Chamber of Commerce\n\nSaint Paul Area Chamber of Commerce\n\nAttend the Roseville Business Council and gather together with Roseville business owners and employees in the East Metro and talk about the importance of business community leadership and engagement in regional decision making.
X-ALT-DESC;FMTTYPE=text/html:<span style="color: rgb(35\, 31\, 32)\; font-family: Raleway\, sans-serif\; font-size: 20px\;"><u><strong>Annual Transportation Update</strong></u><br />\n<br />\nLook ahead to transportation and other large infrastructure projects in the Roseville area in 2023&nbsp\;and beyond. Representatives from MnDOT and the City of Roseville will highlight current and upcoming projects in the area.</span><br />\n&nbsp\;\n<p style="font-size: small\; line-height: 18px\; font-family: arial\; margin: 0px\; padding: 0px 0px 18px\; border: 0px currentcolor\; list-style-type: none\; list-style-image: none\; border-collapse: collapse\; border-spacing: 0px\; orphans: 2\; widows: 2\; font-stretch: normal\; background-color: rgb(185\, 201\, 213)\;"><strong style="margin: 0px\; padding: 0px\; border: 0px currentcolor\; list-style-type: none\; list-style-image: none\; border-collapse: collapse\; border-spacing: 0px\;">Roseville&nbsp\;Business Council meetings are&nbsp\;co-hosted by the following organizations:<br />\n<br />\nCity of Roseville<br />\nTwin Cities North Chamber of Commerce<br />\n<strong>Saint Paul Area Chamber of Commerce</strong></strong></p>\n\n<p style="font-size: small\; line-height: 18px\; font-family: arial\; margin: 0px\; padding: 0px 0px 18px\; border: 0px currentcolor\; list-style-type: none\; list-style-image: none\; border-collapse: collapse\; border-spacing: 0px\; orphans: 2\; widows: 2\; font-stretch: normal\; background-color: rgb(185\, 201\, 213)\;">Attend the Roseville Business Council and gather together with Roseville business owners and employees in the East Metro&nbsp\;and talk about the importance of business community leadership and engagement in regional decision making.&nbsp\;</p>\n
LOCATION:Roseville City Hall 2660 Civic Center Drive Roseville
UID:e.263.8926
SEQUENCE:3
DTSTAMP:20260422T055012Z
URL:https://business.twincitiesnorth.org/events/details/roseville-business-council-03-22-2023-8926
END:VEVENT

END:VCALENDAR
