BEGIN:VCALENDAR
VERSION:2.0
PRODID:-//ChamberMaster//Event Calendar 2.0//EN
METHOD:PUBLISH
X-PUBLISHED-TTL:P3D
REFRESH-INTERVAL:P3D
CALSCALE:GREGORIAN
BEGIN:VEVENT
DTSTART:20220622T123000Z
DTEND:20220622T133000Z
X-MICROSOFT-CDO-ALLDAYEVENT:FALSE
SUMMARY:Roseville Business Council
DESCRIPTION:State Demographer Susan Brower is our special guest for the Roseville Business Council.  She will share updated demographic information on Roseville and our State. Stay informed and join us!\n\n\n\n \nRoseville Business Council meetings are co-hosted by the following organizations:\n\n\n\nCity of Roseville\n\nTwin Cities North Chamber of Commerce\n\nSaint Paul Area Chamber of Commerce\n\nAttend the Roseville Business Council and gather together with Roseville business owners and employees in the East Metro and talk about the importance of business community leadership and engagement in regional decision making.
X-ALT-DESC;FMTTYPE=text/html:State Demographer Susan Brower is our special guest for the Roseville Business Council.&nbsp\; She will share updated demographic information on Roseville and our State. Stay informed and join us!<br />\n<br />\n&nbsp\;\n<p style="font-size: small\; line-height: 18px\; font-family: arial\; margin: 0px\; padding: 0px 0px 18px\; border: 0px currentcolor\; list-style-type: none\; list-style-image: none\; border-collapse: collapse\; border-spacing: 0px\; orphans: 2\; widows: 2\; font-stretch: normal\; background-color: rgb(185\, 201\, 213)\;"><strong style="margin: 0px\; padding: 0px\; border: 0px currentcolor\; list-style-type: none\; list-style-image: none\; border-collapse: collapse\; border-spacing: 0px\;">Roseville&nbsp\;Business Council meetings are&nbsp\;co-hosted by the following organizations:<br />\n<br />\nCity of Roseville<br />\nTwin Cities North Chamber of Commerce<br />\n<strong>Saint Paul Area Chamber of Commerce</strong></strong></p>\n\n<p style="font-size: small\; line-height: 18px\; font-family: arial\; margin: 0px\; padding: 0px 0px 18px\; border: 0px currentcolor\; list-style-type: none\; list-style-image: none\; border-collapse: collapse\; border-spacing: 0px\; orphans: 2\; widows: 2\; font-stretch: normal\; background-color: rgb(185\, 201\, 213)\;">Attend the Roseville Business Council and gather together with Roseville business owners and employees in the East Metro&nbsp\;and talk about the importance of business community leadership and engagement in regional decision making.&nbsp\;</p>\n
LOCATION:McGough Construction Roseville
UID:e.263.8917
SEQUENCE:3
DTSTAMP:20260424T121133Z
URL:https://business.twincitiesnorth.org/events/details/roseville-business-council-06-22-2022-8917
END:VEVENT

END:VCALENDAR
