BEGIN:VCALENDAR
VERSION:2.0
PRODID:-//ChamberMaster//Event Calendar 2.0//EN
METHOD:PUBLISH
X-PUBLISHED-TTL:P3D
REFRESH-INTERVAL:P3D
CALSCALE:GREGORIAN
BEGIN:VEVENT
DTSTART:20230823T123000Z
DTEND:20230823T133000Z
X-MICROSOFT-CDO-ALLDAYEVENT:FALSE
SUMMARY:Roseville Business Council
DESCRIPTION:HOSPITALITY UPDATE\n\n\n\nJoin us as Julie Wearn gives us a prestation on the state of the hospitality industry in Roseville and how we compare with the rest of the Twin Cities. Where do our guests come from and where do they go while they are visiting? Wearn will also touch on the State of the American Traveler   how is our summer going and how do people feel about future travelers and end with an overview of Wayfinding signage that the City of Roseville is looking to implement in 2024.\n\n\n\n \nRoseville Business Council meetings are co-hosted by the following organizations:\n\n\n\nCity of Roseville\n\nTwin Cities North Chamber of Commerce\n\nSaint Paul Area Chamber of Commerce\n\nAttend the Roseville Business Council and gather together with Roseville business owners and employees in the East Metro and talk about the importance of business community leadership and engagement in regional decision making.
X-ALT-DESC;FMTTYPE=text/html:<u><strong>HOSPITALITY UPDATE</strong></u><br />\n<br />\n<span style="color: rgb(0\, 0\, 0)\; font-family: &quot\;Times New Roman&quot\;\; font-size: medium\;">Join us as Julie Wearn gives us a prestation on the state of the hospitality industry in Roseville and how we compare with the rest of the Twin Cities. Where do our guests come from and where do they go while they are visiting? Wearn will also touch on the State of the American Traveler &ndash\; how is our summer going and how do people feel about future travelers and end with an overview of Wayfinding signage that the City of Roseville is looking to implement in 2024.</span><br />\n<br />\n&nbsp\;\n<p style="font-size: small\; line-height: 18px\; font-family: arial\; margin: 0px\; padding: 0px 0px 18px\; border: 0px currentcolor\; list-style-type: none\; list-style-image: none\; border-collapse: collapse\; border-spacing: 0px\; orphans: 2\; widows: 2\; font-stretch: normal\; background-color: rgb(185\, 201\, 213)\;"><strong style="margin: 0px\; padding: 0px\; border: 0px currentcolor\; list-style-type: none\; list-style-image: none\; border-collapse: collapse\; border-spacing: 0px\;">Roseville&nbsp\;Business Council meetings are&nbsp\;co-hosted by the following organizations:<br />\n<br />\nCity of Roseville<br />\nTwin Cities North Chamber of Commerce<br />\n<strong>Saint Paul Area Chamber of Commerce</strong></strong></p>\n\n<p style="font-size: small\; line-height: 18px\; font-family: arial\; margin: 0px\; padding: 0px 0px 18px\; border: 0px currentcolor\; list-style-type: none\; list-style-image: none\; border-collapse: collapse\; border-spacing: 0px\; orphans: 2\; widows: 2\; font-stretch: normal\; background-color: rgb(185\, 201\, 213)\;">Attend the Roseville Business Council and gather together with Roseville business owners and employees in the East Metro&nbsp\;and talk about the importance of business community leadership and engagement in regional decision making.&nbsp\;</p>\n
LOCATION:Roseville City Hall Roseville\, MN 55113 (virtual option available)
UID:e.263.8931
SEQUENCE:3
DTSTAMP:20260423T164140Z
URL:https://business.twincitiesnorth.org/events/details/roseville-business-council-08-23-2023-8931
END:VEVENT

END:VCALENDAR
