BEGIN:VCALENDAR
VERSION:2.0
PRODID:-//ChamberMaster//Event Calendar 2.0//EN
METHOD:PUBLISH
X-PUBLISHED-TTL:P3D
REFRESH-INTERVAL:P3D
CALSCALE:GREGORIAN
BEGIN:VEVENT
DTSTART:20211027T123000Z
DTEND:20211027T133000Z
X-MICROSOFT-CDO-ALLDAYEVENT:FALSE
SUMMARY:Roseville Business Council
DESCRIPTION:JOIN US FOR OUR ANNUAL EDA UPDATE FROM CITY OF ROSEVILLE\n\nLearn about all the new developments and pending developments coming in 2022 and the future. \n\n \nRoseville Business Council meetings are co-hosted by the following organizations:\n\n\n\nCity of Roseville\n\nTwin Cities North Chamber of Commerce\n\nSaint Paul Area Chamber of Commerce\n\nAttend the Roseville Business Council and gather together with Roseville business owners and employees in the East Metro and talk about the importance of business community leadership and engagement in regional decision making.
X-ALT-DESC;FMTTYPE=text/html:<span style="font-size:14px\;">JOIN US FOR OUR ANNUAL EDA UPDATE FROM CITY OF ROSEVILLE<br />\nLearn about all the new developments and pending developments coming in 2022 and the future.&nbsp\;</span><br />\n&nbsp\;\n<p style="font-size: small\; line-height: 18px\; font-family: arial\; margin: 0px\; padding: 0px 0px 18px\; border: 0px currentcolor\; list-style-type: none\; list-style-image: none\; border-collapse: collapse\; border-spacing: 0px\; orphans: 2\; widows: 2\; font-stretch: normal\; background-color: rgb(185\, 201\, 213)\;"><strong style="margin: 0px\; padding: 0px\; border: 0px currentcolor\; list-style-type: none\; list-style-image: none\; border-collapse: collapse\; border-spacing: 0px\;">Roseville&nbsp\;Business Council meetings are&nbsp\;co-hosted by the following organizations:<br />\n<br />\nCity of Roseville<br />\nTwin Cities North Chamber of Commerce<br />\n<strong>Saint Paul Area Chamber of Commerce</strong></strong></p>\n\n<p style="font-size: small\; line-height: 18px\; font-family: arial\; margin: 0px\; padding: 0px 0px 18px\; border: 0px currentcolor\; list-style-type: none\; list-style-image: none\; border-collapse: collapse\; border-spacing: 0px\; orphans: 2\; widows: 2\; font-stretch: normal\; background-color: rgb(185\, 201\, 213)\;">Attend the Roseville Business Council and gather together with Roseville business owners and employees in the East Metro&nbsp\;and talk about the importance of business community leadership and engagement in regional decision making.&nbsp\;</p>\n
LOCATION:McGough Construction
UID:e.263.8909
SEQUENCE:3
DTSTAMP:20260421T053456Z
URL:https://business.twincitiesnorth.org/events/details/roseville-business-council-10-27-2021-8909
END:VEVENT

END:VCALENDAR
