BEGIN:VCALENDAR
VERSION:2.0
PRODID:-//ChamberMaster//Event Calendar 2.0//EN
METHOD:PUBLISH
X-PUBLISHED-TTL:P3D
REFRESH-INTERVAL:P3D
CALSCALE:GREGORIAN
BEGIN:VEVENT
DTSTART:20211208T223000Z
DTEND:20211209T000000Z
X-MICROSOFT-CDO-ALLDAYEVENT:FALSE
SUMMARY:Roseville Business Exchange 12/8/21
DESCRIPTION:Roseville Business Exchange brought to you by Roseville Business Council. Chance for business leaders to connect with each other. Meet new and key stakeholders in Roseville!\n\n\n\n Compimentary Appetizers & Soft Drinks. - Cash Bar.\n\n\n\nSponsored by Roseville Visitors Association\, City of Roseville\, Twin Cities North Chamber of Commerce\, and the Saint Paul Area Chamber of Commerce
X-ALT-DESC;FMTTYPE=text/html:<span style="color: rgb(102\, 102\, 102)\; font-family: 'Open Sans'\, Arial\, Helvetica\, sans-serif\; font-size: 14px\; line-height: normal\;">&nbsp\;</span><span class="GeneralBody" id="content_EventDetailDescription1_lblEventDescription" style="color: rgb(102\, 102\, 102)\; font-size: 14px\; line-height: normal\; font-family: 'open sans'\, arial\, helvetica !important\;">Roseville Business Exchange brought to you by Roseville Business Council. Chance for business leaders to connect with each other. Meet new and key stakeholders in Roseville!<br />\n<br />\n&nbsp\;Compimentary Appetizers &amp\; Soft Drinks. - Cash Bar.<br />\n<br />\nSponsored by Roseville Visitors Association\, City of Roseville\, Twin Cities North Chamber of Commerce\, and the Saint Paul Area Chamber of Commerce</span><span style="color: rgb(102\, 102\, 102)\; font-family: 'Open Sans'\, Arial\, Helvetica\, sans-serif\; font-size: 14px\; line-height: normal\;">&nbsp\;</span>
LOCATION:Cedarholm Golf Course Clubhouse Roseville\, MN 55113
UID:e.263.14647
SEQUENCE:3
DTSTAMP:20260424T211528Z
URL:https://business.twincitiesnorth.org/events/details/roseville-business-exchange-12-8-21-14647
END:VEVENT

END:VCALENDAR
