BEGIN:VCALENDAR
VERSION:2.0
PRODID:-//ChamberMaster//Event Calendar 2.0//EN
METHOD:PUBLISH
X-PUBLISHED-TTL:P3D
REFRESH-INTERVAL:P3D
CALSCALE:GREGORIAN
BEGIN:VEVENT
DTSTART;VALUE=DATE:20190822
DTEND;VALUE=DATE:20190823
TRANSP:TRANSPARENT
X-MICROSOFT-CDO-ALLDAYEVENT:TRUE
SUMMARY:SACA Dinner
DESCRIPTION:Join SACA for a fantastic dinner pairing of great food and cider from the Gardens of Salonica and Sociable Cider Werks Thursday\, August 22nd from 6:30 - 9pm. It will be held at the Gardens of Salonica\, 19 5th St NE\, Minneapolis\, MN 55413. The dinner is a 4 course meal. Cost is $75. $50 goes to SACA Food Shelf & Thrift Store. The $50 will enable SACA to feed a family of 4 for over a month! $25 will go to the Gardens of Salonica for food\, staff and tip.
X-ALT-DESC;FMTTYPE=text/html:<span class="contextualExtensionHighlight ms-font-color-themePrimary ms-border-color-themePrimary ident_438_595" role="button" style="border-color: rgb(0\, 120\, 215)\; color: rgb(0\, 120\, 215)\; border-bottom-width: 1px\; border-bottom-style: dashed\; cursor: pointer\; outline: none\; font-family: wf_segoe-ui_normal\, &quot\;Segoe UI&quot\;\, &quot\;Segoe WP&quot\;\, Tahoma\, Arial\, sans-serif\, serif\, EmojiFont\; font-size: 15px\;" tabindex="0">Join SACA for a fantastic dinner pairing of great food and cider from the Gardens of Salonica and Sociable Cider Werks Thursday\, August 22nd from 6:30 - 9pm.</span><span style="color: rgb(33\, 33\, 33)\; font-family: wf_segoe-ui_normal\, &quot\;Segoe UI&quot\;\, &quot\;Segoe WP&quot\;\, Tahoma\, Arial\, sans-serif\, serif\, EmojiFont\; font-size: 15px\;">&nbsp\;It will be held at the Gardens of Salonica\,&nbsp\;</span><span class="contextualExtensionHighlight ms-font-color-themePrimary ms-border-color-themePrimary ident_640_675" role="button" style="border-color: rgb(0\, 120\, 215)\; color: rgb(0\, 120\, 215)\; border-bottom-width: 1px\; border-bottom-style: dashed\; cursor: pointer\; font-family: wf_segoe-ui_normal\, &quot\;Segoe UI&quot\;\, &quot\;Segoe WP&quot\;\, Tahoma\, Arial\, sans-serif\, serif\, EmojiFont\; font-size: 15px\;" tabindex="0">19 5th St NE\, Minneapolis\, MN 55413</span><span style="color: rgb(33\, 33\, 33)\; font-family: wf_segoe-ui_normal\, &quot\;Segoe UI&quot\;\, &quot\;Segoe WP&quot\;\, Tahoma\, Arial\, sans-serif\, serif\, EmojiFont\; font-size: 15px\;">. The dinner is a 4 course meal. Cost is $75. $50 goes to SACA Food Shelf &amp\; Thrift Store. The $50 will enable SACA to feed a family of 4 for over a month! $25 will go to the Gardens of Salonica for food\, staff and tip.</span>
LOCATION:Gardens of Salonica
UID:e.263.14355
SEQUENCE:3
DTSTAMP:20260420T074129Z
URL:https://business.twincitiesnorth.org/events/details/saca-dinner-14355
END:VEVENT

END:VCALENDAR
