BEGIN:VCALENDAR
VERSION:2.0
PRODID:-//ChamberMaster//Event Calendar 2.0//EN
METHOD:PUBLISH
X-PUBLISHED-TTL:P3D
REFRESH-INTERVAL:P3D
CALSCALE:GREGORIAN
BEGIN:VEVENT
DTSTART:20260429T220000Z
DTEND:20260430T000000Z
X-MICROSOFT-CDO-ALLDAYEVENT:FALSE
SUMMARY:Shoreview Busines Social
DESCRIPTION:Shoreview Business Social\n\nCome on out and meet fellow stakeholders\, business owners and chamber members!
X-ALT-DESC;FMTTYPE=text/html:Shoreview Business Social<br />\nCome on out and meet fellow stakeholders\, business owners and chamber members!
LOCATION:Churchill Street Restaurant 4606 Churchill Street Shoreview
UID:e.263.15195
SEQUENCE:3
DTSTAMP:20260423T182413Z
URL:https://business.twincitiesnorth.org/events/details/shoreview-busines-social-15195
END:VEVENT

END:VCALENDAR
