BEGIN:VCALENDAR
VERSION:2.0
PRODID:-//ChamberMaster//Event Calendar 2.0//EN
METHOD:PUBLISH
X-PUBLISHED-TTL:P3D
REFRESH-INTERVAL:P3D
CALSCALE:GREGORIAN
BEGIN:VEVENT
DTSTART:20220601T130000Z
DTEND:20220601T140000Z
X-MICROSOFT-CDO-ALLDAYEVENT:FALSE
SUMMARY:Special Arden Hills Shoreview Business Council Meeting
DESCRIPTION:A SPECIAL BUSINESS COUNCIL MEETING ON LEXINGTON AVE.\n\n\n\nPlease attend or send an associate to our next Arden Hills Shoreview Business Council meeting. The main agenda will be an update from Ramsey County on the current road construction project on Lexington Ave. Also\, a promotion plan will be shared.
X-ALT-DESC;FMTTYPE=text/html:<u><strong>A SPECIAL BUSINESS COUNCIL MEETING ON LEXINGTON AVE</strong></u>.<br />\n<br />\nPlease attend or send an associate to our next Arden Hills Shoreview Business Council meeting. The main agenda will be an update from Ramsey County on the current road construction project on Lexington Ave. Also\, a promotion plan will be shared.&nbsp\;
LOCATION:Best Western Plus Shoreview 1000 Gramsie Road Shoreview\, MN
UID:e.263.14707
SEQUENCE:3
DTSTAMP:20260424T121444Z
URL:https://business.twincitiesnorth.org/events/details/special-arden-hills-shoreview-business-council-meeting-14707
END:VEVENT

END:VCALENDAR
