BEGIN:VCALENDAR
VERSION:2.0
PRODID:-//ChamberMaster//Event Calendar 2.0//EN
METHOD:PUBLISH
X-PUBLISHED-TTL:P3D
REFRESH-INTERVAL:P3D
CALSCALE:GREGORIAN
BEGIN:VEVENT
DTSTART:20220623T220000Z
DTEND:20220624T010000Z
X-MICROSOFT-CDO-ALLDAYEVENT:FALSE
SUMMARY:Taste of Rosefest
DESCRIPTION:TASTE OF ROSEFEST
X-ALT-DESC;FMTTYPE=text/html:TASTE OF ROSEFEST
LOCATION:Central Park Roseville
UID:e.263.14698
SEQUENCE:3
DTSTAMP:20260424T120843Z
URL:https://business.twincitiesnorth.org/events/details/taste-of-rosefest-14698
END:VEVENT

END:VCALENDAR
