BEGIN:VCALENDAR
VERSION:2.0
PRODID:-//ChamberMaster//Event Calendar 2.0//EN
METHOD:PUBLISH
X-PUBLISHED-TTL:P3D
REFRESH-INTERVAL:P3D
CALSCALE:GREGORIAN
BEGIN:VEVENT
DTSTART:20211015T123000Z
DTEND:20211015T134500Z
X-MICROSOFT-CDO-ALLDAYEVENT:FALSE
SUMMARY:TCN Chamber Forum on ARP Funds
DESCRIPTION:COUNTY USE OF ARP FUNDS\n\nJoin us for an informative program on ARP (American Rescue Plan) Funds. Ramsey and Anoka County will share updates on intended uses for businesses and their impacts. Be a part of this lively dialogue on coming resources for local businesses.\n\n\n\nSpecial Guests: Rhonda Sivarajah Anoka County Administrator and Johanna Berg Deputy Manager Ramsey County. \n\nRegister now!
X-ALT-DESC;FMTTYPE=text/html:<u><strong>COUNTY USE OF ARP FUNDS</strong></u><br />\nJoin us for an informative program on ARP (American Rescue Plan) Funds. Ramsey and Anoka County will share updates on intended uses for businesses and their impacts. Be a part of this lively dialogue on coming resources for local businesses.<br />\n<br />\nSpecial Guests: Rhonda Sivarajah Anoka County Administrator and Johanna Berg Deputy Manager Ramsey County.&nbsp\;<br />\nRegister now!
LOCATION:Doubletree Hotel Roseville Roseville
UID:e.263.14641
SEQUENCE:3
DTSTAMP:20260425T003903Z
URL:https://business.twincitiesnorth.org/events/details/tcn-chamber-forum-on-arp-funds-14641
END:VEVENT

END:VCALENDAR
