BEGIN:VCALENDAR
VERSION:2.0
PRODID:-//ChamberMaster//Event Calendar 2.0//EN
METHOD:PUBLISH
X-PUBLISHED-TTL:P3D
REFRESH-INTERVAL:P3D
CALSCALE:GREGORIAN
BEGIN:VEVENT
DTSTART:20211021T160000Z
DTEND:20211021T160000Z
X-MICROSOFT-CDO-ALLDAYEVENT:FALSE
SUMMARY:The Bear Lot Grand Opening
DESCRIPTION:Grand Opening The Bear Lot Mounds View
X-ALT-DESC;FMTTYPE=text/html:Grand Opening The Bear Lot Mounds View&nbsp\;&nbsp\;&nbsp\;&nbsp\;
LOCATION:The Bear Lot Mounds View Blvd Mounds View\, MN
UID:e.263.14648
SEQUENCE:3
DTSTAMP:20260425T004224Z
URL:https://business.twincitiesnorth.org/events/details/the-bear-lot-grand-opening-14648
END:VEVENT

END:VCALENDAR
