BEGIN:VCALENDAR
VERSION:2.0
PRODID:-//ChamberMaster//Event Calendar 2.0//EN
METHOD:PUBLISH
X-PUBLISHED-TTL:P3D
REFRESH-INTERVAL:P3D
CALSCALE:GREGORIAN
BEGIN:VEVENT
DTSTART:20220518T190000Z
DTEND:20220518T200000Z
X-MICROSOFT-CDO-ALLDAYEVENT:FALSE
SUMMARY:The New Normal of Cyber Security Webinar
DESCRIPTION:Webinar Content\n\n \nOur world is not the same that it was 2 years ago - including cyberspace!\n\n \n\nIn 2021\, Ransomware attacks were up 105% over the previous year\, impacting an estimated 86% of organizations.\n\n \n\nThe average ransom demand for businesses with under 100 employees has surpassed $200\,000! 50% of Small Businesses hit by Ransomware go out of business!\n\n \n\nWhat worked in 2020 is no longer good enough! Register and join us to learn about the advanced threats that are crippling organizations of all sizes and get a fresh perspective on how these now common-place risks can be prevented.
X-ALT-DESC;FMTTYPE=text/html:<span style="font-size:16px\;">Webinar Content</span><br />\n&nbsp\;\n<p class="x_MsoNormal" style="margin: 0in 0in 0in 0.5in\; font-size: 11pt\; font-family: Calibri\, sans-serif\; color: rgb(32\, 31\, 30)\;"><span style="margin: 0px\; padding: 0px\; border: 0px\; font-style: inherit\; font-variant: inherit\; font-weight: inherit\; font-stretch: inherit\; font-size: 14pt\; line-height: inherit\; font-family: &quot\;Book Antiqua&quot\;\, serif\; vertical-align: baseline\; color: inherit\;">Our world is not the same that it was 2 years ago - including cyberspace!</span></p>\n\n<p class="x_MsoNormal" style="margin: 0in 0in 0in 0.5in\; font-size: 11pt\; font-family: Calibri\, sans-serif\; color: rgb(32\, 31\, 30)\;"><span style="margin: 0px\; padding: 0px\; border: 0px\; font-style: inherit\; font-variant: inherit\; font-weight: inherit\; font-stretch: inherit\; font-size: 14pt\; line-height: inherit\; font-family: &quot\;Book Antiqua&quot\;\, serif\; vertical-align: baseline\; color: inherit\;">&nbsp\;</span></p>\n\n<p class="x_MsoNormal" style="margin: 0in 0in 0in 0.5in\; font-size: 11pt\; font-family: Calibri\, sans-serif\; color: rgb(32\, 31\, 30)\;"><span style="margin: 0px\; padding: 0px\; border: 0px\; font-style: inherit\; font-variant: inherit\; font-weight: inherit\; font-stretch: inherit\; font-size: 14pt\; line-height: inherit\; font-family: &quot\;Book Antiqua&quot\;\, serif\; vertical-align: baseline\; color: inherit\;">In 2021\, Ransomware attacks were up 105% over the previous year\, impacting an estimated 86% of organizations.</span></p>\n\n<p class="x_MsoNormal" style="margin: 0in 0in 0in 0.5in\; font-size: 11pt\; font-family: Calibri\, sans-serif\; color: rgb(32\, 31\, 30)\;"><span style="margin: 0px\; padding: 0px\; border: 0px\; font-style: inherit\; font-variant: inherit\; font-weight: inherit\; font-stretch: inherit\; font-size: 14pt\; line-height: inherit\; font-family: &quot\;Book Antiqua&quot\;\, serif\; vertical-align: baseline\; color: inherit\;">&nbsp\;</span></p>\n\n<p class="x_MsoNormal" style="margin: 0in 0in 0in 0.5in\; font-size: 11pt\; font-family: Calibri\, sans-serif\; color: rgb(32\, 31\, 30)\;"><span style="margin: 0px\; padding: 0px\; border: 0px\; font-style: inherit\; font-variant: inherit\; font-weight: inherit\; font-stretch: inherit\; font-size: 14pt\; line-height: inherit\; font-family: &quot\;Book Antiqua&quot\;\, serif\; vertical-align: baseline\; color: inherit\;">The average ransom demand for businesses with under 100 employees has surpassed $200\,000! 50% of Small Businesses hit by Ransomware go out of business!</span></p>\n\n<p class="x_MsoNormal" style="margin: 0in 0in 0in 0.5in\; font-size: 11pt\; font-family: Calibri\, sans-serif\; color: rgb(32\, 31\, 30)\;"><span style="margin: 0px\; padding: 0px\; border: 0px\; font-style: inherit\; font-variant: inherit\; font-weight: inherit\; font-stretch: inherit\; font-size: 14pt\; line-height: inherit\; font-family: &quot\;Book Antiqua&quot\;\, serif\; vertical-align: baseline\; color: inherit\;">&nbsp\;</span></p>\n\n<p class="x_MsoNormal" style="margin: 0in 0in 0in 0.5in\; font-size: 11pt\; font-family: Calibri\, sans-serif\; color: rgb(32\, 31\, 30)\;"><span style="margin: 0px\; padding: 0px\; border: 0px\; font-style: inherit\; font-variant: inherit\; font-weight: inherit\; font-stretch: inherit\; font-size: 14pt\; line-height: inherit\; font-family: &quot\;Book Antiqua&quot\;\, serif\; vertical-align: baseline\; color: inherit\;">What worked in 2020 is no longer good enough! Register and join us to learn about the advanced threats that are crippling organizations of all sizes and get a fresh perspective on how these now common-place risks can be prevented.</span></p>\n
LOCATION:https://chipscs.com/
UID:e.263.14692
SEQUENCE:3
DTSTAMP:20260424T120322Z
URL:https://business.twincitiesnorth.org/events/details/the-new-normal-of-cyber-security-webinar-14692
END:VEVENT

END:VCALENDAR
