BEGIN:VCALENDAR
VERSION:2.0
PRODID:-//ChamberMaster//Event Calendar 2.0//EN
METHOD:PUBLISH
X-PUBLISHED-TTL:P3D
REFRESH-INTERVAL:P3D
CALSCALE:GREGORIAN
BEGIN:VEVENT
DTSTART:20181113T200000Z
DTEND:20181113T210000Z
X-MICROSOFT-CDO-ALLDAYEVENT:FALSE
SUMMARY:Workforce Development Committee
DESCRIPTION:NOTE NEW DATE TUESDAY NOVEMBER 13TH\n\n\n\nThe TCN Chamber invites local business\, stakeholders\, and education contacts to share their updates and bring awareness to resources to assist growing the local economy. \n\n\n\nJoin us for discussion on workforce issues with major stakeholders in the area.
X-ALT-DESC;FMTTYPE=text/html:<strong>NOTE NEW DATE TUESDAY NOVEMBER 13TH<br />\n<br />\nThe TCN Chamber invites local business\, stakeholders\, and education contacts to share their updates and bring awareness to resources to assist growing the local economy.&nbsp\;</strong><br />\n<br />\nJoin us for discussion on workforce issues with major stakeholders in the area.&nbsp\;&nbsp\;
LOCATION:Twin Cities North Chamber Lower Level Conference Room 1835 County Road C Roseville\, MN 55113
UID:e.263.14291
SEQUENCE:3
DTSTAMP:20260425T144757Z
URL:https://business.twincitiesnorth.org/events/details/workforce-development-committee-14291
END:VEVENT

END:VCALENDAR
