BEGIN:VCALENDAR
VERSION:2.0
PRODID:-//ChamberMaster//Event Calendar 2.0//EN
METHOD:PUBLISH
X-PUBLISHED-TTL:P3D
REFRESH-INTERVAL:P3D
CALSCALE:GREGORIAN
BEGIN:VEVENT
DTSTART:20190211T200000Z
DTEND:20190211T210000Z
X-MICROSOFT-CDO-ALLDAYEVENT:FALSE
SUMMARY:Workforce Development Committee
DESCRIPTION:WORKFORCE DEVELOPMENT COMMITTEE\n\n\n\nOpportunity to share updates\, events\, and new initiatives. \n\nOur guest this month is MN Jobs Match. \n\nYour chamber is working to address workforce challenges and opportunities so if you have issues for the committee to address\, want to be a guest speaker\, or want to serve on this committee please contact the chamber office
X-ALT-DESC;FMTTYPE=text/html:<em><strong>WORKFORCE DEVELOPMENT COMMITTEE<br />\n<br />\nOpportunity to share updates\, events\, and new initiatives.&nbsp\;<br />\nOur guest this month is MN Jobs Match.&nbsp\;</strong></em><br />\nYour chamber is working to address workforce challenges and opportunities so if you have issues for the committee to address\, want to be a guest speaker\, or want to serve on this committee please contact the chamber office
LOCATION:NEW LOCATION MINNCOR Industries 2420 Long Lake Road Roseville\, MN 55113
UID:e.263.14317
SEQUENCE:3
DTSTAMP:20260424T040507Z
URL:https://business.twincitiesnorth.org/events/details/workforce-development-committee-14317
END:VEVENT

END:VCALENDAR
