BEGIN:VCALENDAR
VERSION:2.0
PRODID:-//ChamberMaster//Event Calendar 2.0//EN
METHOD:PUBLISH
X-PUBLISHED-TTL:P3D
REFRESH-INTERVAL:P3D
CALSCALE:GREGORIAN
BEGIN:VEVENT
DTSTART:20191014T190000Z
DTEND:20191014T200000Z
X-MICROSOFT-CDO-ALLDAYEVENT:FALSE
SUMMARY:Workforce Development Committee
DESCRIPTION:TWIN CITIES NORTH CHAMBER \n\nWORKFORCE DEVELOPMENT COMMITTEE\n\n\n\nConnect with local stakeholders in the area of workforce. \n\nOur guest this meeting is Jeana Anderson\, Executive Director of Germanic American Institute.  They provide solutions and resources that involves career path planning and school to work transitions.. \n\n\n\nThe TCN Chamber invites local business\, stakeholders\, and education contacts to share their updates and bring awareness to resources to assist growing the local economy. \n\n\n\nJoin us for discussion on workforce issues with major stakeholders in the area.
X-ALT-DESC;FMTTYPE=text/html:<strong>TWIN CITIES NORTH CHAMBER&nbsp\;<br />\nWORKFORCE DEVELOPMENT COMMITTEE<br />\n<br />\nConnect with local stakeholders in the area of workforce.&nbsp\;<br />\nOur guest this meeting is Jeana Anderson\, Executive Director of Germanic American Institute.&nbsp\; They provide solutions and resources that involves career path planning and school to work transitions..&nbsp\;<br />\n<br />\nThe TCN Chamber invites local business\, stakeholders\, and education contacts to share their updates and bring awareness to resources to assist growing the local economy.&nbsp\;</strong><br />\n<br />\nJoin us for discussion on workforce issues with major stakeholders in the area.&nbsp\;&nbsp\;
LOCATION:NEW VENUE BATC (Builders Assn of Twin Cities) 2960 Centre Pointe Dr. Roseville\, MN 55113
UID:e.263.14361
SEQUENCE:3
DTSTAMP:20260420T061657Z
URL:https://business.twincitiesnorth.org/events/details/workforce-development-committee-14361
END:VEVENT

END:VCALENDAR
