BEGIN:VCALENDAR
VERSION:2.0
PRODID:-//ChamberMaster//Event Calendar 2.0//EN
METHOD:PUBLISH
X-PUBLISHED-TTL:P3D
REFRESH-INTERVAL:P3D
CALSCALE:GREGORIAN
BEGIN:VEVENT
DTSTART:20200413T190000Z
DTEND:20200413T200000Z
X-MICROSOFT-CDO-ALLDAYEVENT:FALSE
SUMMARY:Workforce Development Committee- Suspended
DESCRIPTION:TWIN CITIES NORTH CHAMBER \n\nWORKFORCE DEVELOPMENT COMMITTEE\n\n\n\nConnect with local stakeholders in the area of workforce. \n\nOur guest is Deb McMillan with the MN Chamber.She oversees the BEN program that is directly related to workforce connections.  \n\n\n\nThe TCN Chamber invites local business\, stakeholders\, and education contacts to share their updates and bring awareness to resources to assist growing the local economy. \n\n\n\nJoin us for discussion on workforce issues with major stakeholders in the area.
X-ALT-DESC;FMTTYPE=text/html:<strong>TWIN CITIES NORTH CHAMBER&nbsp\;<br />\nWORKFORCE DEVELOPMENT COMMITTEE<br />\n<br />\nConnect with local stakeholders in the area of workforce.&nbsp\;<br />\nOur guest is Deb McMillan with the MN Chamber.She oversees the BEN program that is directly related to workforce connections.&nbsp\;&nbsp\;<br />\n<br />\nThe TCN Chamber invites local business\, stakeholders\, and education contacts to share their updates and bring awareness to resources to assist growing the local economy.&nbsp\;</strong><br />\n<br />\nJoin us for discussion on workforce issues with major stakeholders in the area.&nbsp\;&nbsp\;
LOCATION:Twin Cities North Chamber of Commerce The Reserve 1915 Hwy 36 West Roseville\, MN 55113
UID:e.263.14517
SEQUENCE:3
DTSTAMP:20260423T090933Z
URL:https://business.twincitiesnorth.org/events/details/workforce-development-committee-suspended-14517
END:VEVENT

END:VCALENDAR
